BEGIN:VCALENDAR
PRODID:-//kirchenweb.ch gmbh//veranstaltungsausgabe v2.0//DE
VERSION:2.0
METHOD:PUBLISH
BEGIN:VEVENT
DTSTART:20260401T160000Z
DTEND:20260401T200000Z
LOCATION:Kirchgemeindehaus Zollikon\, Rösslirain 2\, 8702 Zollikon
TRANSP:OPAQUE
SEQUENCE:0
UID:66737-veranstaltung@ref-zozu.ch
DTSTAMP:20260331T062248Z
DESCRIPTION:Kontakt: Fiona Kauer\n\nWeitere Infos:
  https://www.ref-zozu.ch/veranstaltung/66737
SUMMARY:Life
PRIORITY:5
X-MICROSOFT-CDO-IMPORTANCE:1
CLASS:PUBLIC
END:VEVENT
END:VCALENDAR
