BEGIN:VCALENDAR
PRODID:-//kirchenweb.ch gmbh//veranstaltungsausgabe v2.0//DE
VERSION:2.0
METHOD:PUBLISH
BEGIN:VEVENT
DTSTART:20270323T110000Z
DTEND:20270323T121500Z
LOCATION:Kirchgemeindehaus Zollikon\, Rösslirain 2\, 8702 Zollikon
TRANSP:OPAQUE
SEQUENCE:0
UID:66812-veranstaltung@ref-zozu.ch
DTSTAMP:20260402T144707Z
DESCRIPTION:Kontakt: Jennifer Rota\n\nWeitere Infos:
  https://www.ref-zozu.ch/veranstaltung/66812
SUMMARY:3. Klass-Unti_Dorf_dienstags
PRIORITY:5
X-MICROSOFT-CDO-IMPORTANCE:1
CLASS:PUBLIC
END:VEVENT
END:VCALENDAR
