BEGIN:VCALENDAR
PRODID:-//kirchenweb.ch gmbh//veranstaltungsausgabe v2.0//DE
VERSION:2.0
METHOD:PUBLISH
BEGIN:VEVENT
DTSTART:20270426T070000Z
DTEND:20270426T150000Z
LOCATION:Kirchgemeindehaus Zollikerberg\, Hohfurenstr. 1\, 8125
  Zollikerberg
TRANSP:OPAQUE
SEQUENCE:0
UID:66869-veranstaltung@ref-zozu.ch
DTSTAMP:20260402T150914Z
DESCRIPTION:Kontakt: Jennifer Rota\n\nWeitere Infos:
  https://www.ref-zozu.ch/veranstaltung/66869
SUMMARY:Tageslager
PRIORITY:5
X-MICROSOFT-CDO-IMPORTANCE:1
CLASS:PUBLIC
END:VEVENT
END:VCALENDAR
