BEGIN:VCALENDAR
PRODID:-//kirchenweb.ch gmbh//veranstaltungsausgabe v2.0//DE
VERSION:2.0
METHOD:PUBLISH
BEGIN:VEVENT
DTSTART:20270303T110000Z
DTEND:20270303T190000Z
LOCATION:extern\, \,
TRANSP:OPAQUE
SEQUENCE:0
UID:66886-veranstaltung@ref-zozu.ch
DTSTAMP:20260407T093726Z
DESCRIPTION:Kontakt: Fiona Kauer\n\nWeitere Infos:
  https://www.ref-zozu.ch/veranstaltung/66886
SUMMARY:Juki 6; REGA
PRIORITY:5
X-MICROSOFT-CDO-IMPORTANCE:1
CLASS:PUBLIC
END:VEVENT
END:VCALENDAR
