BEGIN:VCALENDAR
PRODID:-//kirchenweb.ch gmbh//veranstaltungsausgabe v2.0//DE
VERSION:2.0
METHOD:PUBLISH
BEGIN:VEVENT
DTSTART:20270115T181500Z
DTEND:20270115T191500Z
LOCATION:Kirche Zollikon\, Rösslirain 2\, 8702 Zollikon
TRANSP:OPAQUE
SEQUENCE:0
UID:66965-veranstaltung@ref-zozu.ch
DTSTAMP:20260410T131537Z
DESCRIPTION:Kontakt: Martin Günthardt\n\nWeitere Infos:
  https://www.ref-zozu.ch/veranstaltung/66965
SUMMARY:Jugendgottesdienst "Wiitblick"
PRIORITY:5
X-MICROSOFT-CDO-IMPORTANCE:1
CLASS:PUBLIC
END:VEVENT
END:VCALENDAR
