BEGIN:VCALENDAR
PRODID:-//kirchenweb.ch gmbh//veranstaltungsausgabe v2.0//DE
VERSION:2.0
METHOD:PUBLISH
BEGIN:VEVENT
DTSTART:20270402T171500Z
DTEND:20270402T181500Z
LOCATION:Kirche Zollikerberg\, Hohfurenstr. 1\, 8125 Zollikerberg
TRANSP:OPAQUE
SEQUENCE:0
UID:66968-veranstaltung@ref-zozu.ch
DTSTAMP:20260410T132120Z
DESCRIPTION:Kontakt: Martin Günthardt\n\nWeitere Infos:
  https://www.ref-zozu.ch/veranstaltung/66968
SUMMARY:Jugendgottesdienst "Wiitblick"
PRIORITY:5
X-MICROSOFT-CDO-IMPORTANCE:1
CLASS:PUBLIC
END:VEVENT
END:VCALENDAR
