BEGIN:VCALENDAR
PRODID:-//kirchenweb.ch gmbh//veranstaltungsausgabe v2.0//DE
VERSION:2.0
METHOD:PUBLISH
BEGIN:VEVENT
DTSTART:20261002T130000Z
DTEND:20261002T150000Z
LOCATION:Katholisches Pfarreizentrum Zollikon\, Gustav-Maurer-Strasse 13\,
  8702 Zollikon
TRANSP:OPAQUE
SEQUENCE:0
UID:67026-veranstaltung@ref-zozu.ch
DTSTAMP:20260415T094600Z
DESCRIPTION:Kontakt: Peter Lissa\n\nWeitere Infos:
  https://www.ref-zozu.ch/veranstaltung/67026
SUMMARY:Ökumenische Kegelnachmittag
PRIORITY:5
X-MICROSOFT-CDO-IMPORTANCE:1
CLASS:PUBLIC
END:VEVENT
END:VCALENDAR
