BEGIN:VCALENDAR
PRODID:-//kirchenweb.ch gmbh//veranstaltungsausgabe v2.0//DE
VERSION:2.0
METHOD:PUBLISH
BEGIN:VEVENT
DTSTART:20260428T060000Z
DTEND:20260428T090000Z
LOCATION:Kirchgemeindehaus Zollikerberg\, Hohfurenstr. 1\, 8125
  Zollikerberg
TRANSP:OPAQUE
SEQUENCE:0
UID:67044-veranstaltung@ref-zozu.ch
DTSTAMP:20260423T114829Z
DESCRIPTION:Kontakt: Arijan Bakolli\n\nWeitere Infos:
  https://www.ref-zozu.ch/veranstaltung/67044
SUMMARY:Loosli Gastro\, CaP Geschirrabschmaschine Techniker kommt vorbei
PRIORITY:5
X-MICROSOFT-CDO-IMPORTANCE:1
CLASS:PUBLIC
END:VEVENT
END:VCALENDAR
