BEGIN:VCALENDAR
PRODID:-//kirchenweb.ch gmbh//veranstaltungsausgabe v2.0//DE
VERSION:2.0
METHOD:PUBLISH
BEGIN:VEVENT
DTSTART:20260429T060000Z
DTEND:20260429T100000Z
LOCATION:Gemeinschaftszentrum Zumikon\, Dorfplatz 11\, 8126 Zumikon
TRANSP:OPAQUE
SEQUENCE:0
UID:67046-veranstaltung@ref-zozu.ch
DTSTAMP:20260424T084145Z
DESCRIPTION:Kontakt: Schatt Getränke AG / 044 982 10 10\n\nWeitere Infos:
  https://www.ref-zozu.ch/veranstaltung/67046
SUMMARY:Schatt Getränke AG / Lieferant kommt zwisch 08:00-12:00
PRIORITY:5
X-MICROSOFT-CDO-IMPORTANCE:1
CLASS:PUBLIC
END:VEVENT
END:VCALENDAR
